BEGIN:VCALENDAR
VERSION:2.0
PRODID:-//eventon.com NONSGML v1.0//EN
CALSCALE:GREGORIAN
METHOD:PUBLISH
BEGIN:VEVENT
UID:69e832a5c5c7a
DTSTAMP:20260422T022957Z
DTSTART:20210911T230000Z
DTEND:20210912T010000Z
LOCATION:SCF Church Sanctuary 1640 Carmen Dr\,  Mississauga\,  ON L5G 3Z1
SUMMARY:Young Adults
DESCRIPTION:We meet every 2nd Saturday of the month from 7:00pm to 9:00pm i
 n Church for Bible study\,  dessert\,  and board games. We also plan regula
 r social events to build community. Finally we meet every 1st Friday night 
 for systematic theology over dinner. \nhttps://scfellowship.org/events/you
 ng-adults/var/ri-1.l-L1
URL:https://scfellowship.org/events/young-adults/var/ri-1.l-L1
END:VEVENT
END:VCALENDAR