BEGIN:VCALENDAR
VERSION:2.0
PRODID:-//eventon.com NONSGML v1.0//EN
CALSCALE:GREGORIAN
METHOD:PUBLISH
BEGIN:VEVENT
UID:69ecbb601baf8
DTSTAMP:20260425T130224Z
DTSTART:20260426T130000Z
DTEND:20260426T140000Z
LOCATION:SCF Church Sanctuary 1640 Carmen Dr\,  Mississauga\,  ON L5G 3Z1
SUMMARY:Young Adults Discipleship
DESCRIPTION:We meet every 2nd and 4th Sunday before Church for growth in co
 mmunity and discipleship.\nhttps://scfellowship.org/events/young-adults-dis
 cipleship/var/ri-8.l-L1
URL:https://scfellowship.org/events/young-adults-discipleship/var/ri-8.l-L1
END:VEVENT
END:VCALENDAR