BEGIN:VCALENDAR
VERSION:2.0
PRODID:-//eventon.com NONSGML v1.0//EN
CALSCALE:GREGORIAN
METHOD:PUBLISH
BEGIN:VEVENT
UID:69e6f917eb83a
DTSTAMP:20260421T041207Z
DTSTART:20220530T205500Z
DTEND:20220530T200000Z
LOCATION:SCF Church Sanctuary 1640 Carmen Dr\,  Mississauga\,  ON L5G 3Z1
SUMMARY:Young Adults Ministry
DESCRIPTION:We meet on a Saturday of the month from 6:00pm to 9:00pm in Chu
 rch for Bible study\,  dessert\,  and board games. \nhttps://scfellowship.
 org/events/young-adults-ministry/
URL:https://scfellowship.org/events/young-adults-ministry/
END:VEVENT
END:VCALENDAR